BEGIN:VCALENDAR
VERSION:2.0
PRODID:-//Déryné Művelődési Központ és Városi Könyvtár - ECPv6.3.5//NONSGML v1.0//EN
CALSCALE:GREGORIAN
METHOD:PUBLISH
X-ORIGINAL-URL:https://derynekarcag.hu
X-WR-CALDESC:Events for Déryné Művelődési Központ és Városi Könyvtár
REFRESH-INTERVAL;VALUE=DURATION:PT1H
X-Robots-Tag:noindex
X-PUBLISHED-TTL:PT1H
BEGIN:VTIMEZONE
TZID:Europe/Paris
BEGIN:DAYLIGHT
TZOFFSETFROM:+0100
TZOFFSETTO:+0200
TZNAME:CEST
DTSTART:20260329T010000
END:DAYLIGHT
BEGIN:STANDARD
TZOFFSETFROM:+0200
TZOFFSETTO:+0100
TZNAME:CET
DTSTART:20261025T010000
END:STANDARD
END:VTIMEZONE
BEGIN:VEVENT
DTSTART;TZID=Europe/Paris:20260504T170000
DTEND;TZID=Europe/Paris:20260508T180000
DTSTAMP:20260420T171908
CREATED:20250504T091147Z
LAST-MODIFIED:20260414T134243Z
UID:8706-1777914000-1778263200@derynekarcag.hu
SUMMARY:KUTASD A MULTAD! 2026
DESCRIPTION:
URL:https://derynekarcag.hu/esemeny/kutasd-a-multad-2026/
LOCATION:Ifjúsági Ház – Csokonai Könyvtár\, Püspökladányi út 11.\, Karcag\, Jász-Nagykun-Szolnok\, 5300\, Magyarország
CATEGORIES:Ifjúsági Ház
ATTACH;FMTTYPE=image/jpeg:https://derynekarcag.hu/wp-content/uploads/2026/04/KutasdHirek.jpg
ORGANIZER;CN="D%C3%A9ryn%C3%A9 M%C5%B1vel%C5%91d%C3%A9si K%C3%B6zpont":MAILTO:deryne@derynekarcag.hu
END:VEVENT
END:VCALENDAR