BEGIN:VCALENDAR
VERSION:2.0
PRODID:-//Déryné Művelődési Központ és Városi Könyvtár - ECPv6.3.5//NONSGML v1.0//EN
CALSCALE:GREGORIAN
METHOD:PUBLISH
X-WR-CALNAME:Déryné Művelődési Központ és Városi Könyvtár
X-ORIGINAL-URL:https://derynekarcag.hu
X-WR-CALDESC:Events for Déryné Művelődési Központ és Városi Könyvtár
REFRESH-INTERVAL;VALUE=DURATION:PT1H
X-Robots-Tag:noindex
X-PUBLISHED-TTL:PT1H
BEGIN:VTIMEZONE
TZID:Europe/Paris
BEGIN:DAYLIGHT
TZOFFSETFROM:+0100
TZOFFSETTO:+0200
TZNAME:CEST
DTSTART:20250330T010000
END:DAYLIGHT
BEGIN:STANDARD
TZOFFSETFROM:+0200
TZOFFSETTO:+0100
TZNAME:CET
DTSTART:20251026T010000
END:STANDARD
BEGIN:DAYLIGHT
TZOFFSETFROM:+0100
TZOFFSETTO:+0200
TZNAME:CEST
DTSTART:20260329T010000
END:DAYLIGHT
BEGIN:STANDARD
TZOFFSETFROM:+0200
TZOFFSETTO:+0100
TZNAME:CET
DTSTART:20261025T010000
END:STANDARD
END:VTIMEZONE
BEGIN:VEVENT
DTSTART;TZID=Europe/Paris:20260416T163000
DTEND;TZID=Europe/Paris:20260416T163000
DTSTAMP:20260420T203952
CREATED:20250416T143011Z
LAST-MODIFIED:20260410T132211Z
UID:8697-1776357000-1776357000@derynekarcag.hu
SUMMARY:Vizkeleti Erzsébet: A titkos oldal (könyvbemutató)
DESCRIPTION:
URL:https://derynekarcag.hu/esemeny/vizkeleti-erzsebet-a-titkos-oldal-konyvbemutato/
LOCATION:Ifjúsági Ház – Csokonai Könyvtár\, Püspökladányi út 11.\, Karcag\, Jász-Nagykun-Szolnok\, 5300\, Magyarország
CATEGORIES:Könyvtárban
ATTACH;FMTTYPE=image/jpeg:https://derynekarcag.hu/wp-content/uploads/2026/04/vizkeleti-e-konyvbemutato-thumb.jpg
ORGANIZER;CN="D%C3%A9ryn%C3%A9 M%C5%B1vel%C5%91d%C3%A9si K%C3%B6zpont":MAILTO:deryne@derynekarcag.hu
END:VEVENT
BEGIN:VEVENT
DTSTART;TZID=Europe/Paris:20260408T140000
DTEND;TZID=Europe/Paris:20260408T140000
DTSTAMP:20260420T203952
CREATED:20250408T120057Z
LAST-MODIFIED:20260317T091141Z
UID:8603-1775656800-1775656800@derynekarcag.hu
SUMMARY:Amit szívedbe rejtesz - költészet napi verses délután
DESCRIPTION:
URL:https://derynekarcag.hu/esemeny/amit-szivedbe-rejtesz-kolteszet-napi-verses-delutan/
LOCATION:Ifjúsági Ház – Csokonai Könyvtár\, Püspökladányi út 11.\, Karcag\, Jász-Nagykun-Szolnok\, 5300\, Magyarország
CATEGORIES:Ifjúsági Ház
ATTACH;FMTTYPE=image/jpeg:https://derynekarcag.hu/wp-content/uploads/2026/03/amit-szivedbe-thumb.jpg
ORGANIZER;CN="D%C3%A9ryn%C3%A9 M%C5%B1vel%C5%91d%C3%A9si K%C3%B6zpont":MAILTO:deryne@derynekarcag.hu
END:VEVENT
BEGIN:VEVENT
DTSTART;TZID=Europe/Paris:20260402T140000
DTEND;TZID=Europe/Paris:20260402T190000
DTSTAMP:20260420T203952
CREATED:20250402T081904Z
LAST-MODIFIED:20260331T074509Z
UID:8657-1775138400-1775156400@derynekarcag.hu
SUMMARY:SPORTOS Tavaszi Játszóház
DESCRIPTION:
URL:https://derynekarcag.hu/esemeny/sportos-tavaszi-jatszohaz/
LOCATION:Karcag – Liget úti Sportpálya\, Liget úti Sportpálya\, Karcag\, Jász-Nagykun-Szolnok\, 5300\, Magyarország
CATEGORIES:Dérynében
ATTACH;FMTTYPE=image/jpeg:https://derynekarcag.hu/wp-content/uploads/2026/03/AktivKarcag_Hir.jpg
ORGANIZER;CN="D%C3%A9ryn%C3%A9 M%C5%B1vel%C5%91d%C3%A9si K%C3%B6zpont":MAILTO:deryne@derynekarcag.hu
END:VEVENT
BEGIN:VEVENT
DTSTART;TZID=Europe/Paris:20260331T171500
DTEND;TZID=Europe/Paris:20260331T171500
DTSTAMP:20260420T203952
CREATED:20250331T151556Z
LAST-MODIFIED:20260318T074414Z
UID:8612-1774977300-1774977300@derynekarcag.hu
SUMMARY:Karcagi tojásfák - Készüljünk együtt a húvéti ünnepre!
DESCRIPTION:
URL:https://derynekarcag.hu/esemeny/karcagi-tojasfak-keszuljunk-egyutt-a-huveti-unnepre/
LOCATION:Déryné Művelődési Központ\, Dózsa György út 5-7\, Karcag\, Jász-Nagykun-Szolnok\, 5300
CATEGORIES:Dérynében
ATTACH;FMTTYPE=image/jpeg:https://derynekarcag.hu/wp-content/uploads/2026/03/tojasfa-thumb-2.jpg
ORGANIZER;CN="D%C3%A9ryn%C3%A9 M%C5%B1vel%C5%91d%C3%A9si K%C3%B6zpont":MAILTO:deryne@derynekarcag.hu
END:VEVENT
BEGIN:VEVENT
DTSTART;TZID=Europe/Paris:20260317T180000
DTEND;TZID=Europe/Paris:20260317T193000
DTSTAMP:20260420T203952
CREATED:20250317T075446Z
LAST-MODIFIED:20260219T133713Z
UID:8492-1773770400-1773775800@derynekarcag.hu
SUMMARY:Kiss Ádám - MIT NEM MONDOK
DESCRIPTION:
URL:https://derynekarcag.hu/esemeny/kiss-adam-mit-nem-mondok/
LOCATION:Déryné Művelődési Központ\, Dózsa György út 5-7\, Karcag\, Jász-Nagykun-Szolnok\, 5300
CATEGORIES:Dérynében
ATTACH;FMTTYPE=image/jpeg:https://derynekarcag.hu/wp-content/uploads/2026/02/hir_kissadam.jpg
ORGANIZER;CN="D%C3%A9ryn%C3%A9 M%C5%B1vel%C5%91d%C3%A9si K%C3%B6zpont":MAILTO:deryne@derynekarcag.hu
END:VEVENT
BEGIN:VEVENT
DTSTART;TZID=Europe/Paris:20260314T083000
DTEND;TZID=Europe/Paris:20260314T083000
DTSTAMP:20260420T203952
CREATED:20250314T073008Z
LAST-MODIFIED:20260306T090403Z
UID:8563-1773477000-1773477000@derynekarcag.hu
SUMMARY:Március 15.
DESCRIPTION:
URL:https://derynekarcag.hu/esemeny/marcius-15-2/
LOCATION:Karcag\, Kossuth tér\, Kossuth tér\, Karcag\, Jász-Nagykun-Szolnok\, 5300\, Magyarország
CATEGORIES:Városban
ATTACH;FMTTYPE=image/jpeg:https://derynekarcag.hu/wp-content/uploads/2026/03/marcius15-thumb.jpg
ORGANIZER;CN="D%C3%A9ryn%C3%A9 M%C5%B1vel%C5%91d%C3%A9si K%C3%B6zpont":MAILTO:deryne@derynekarcag.hu
END:VEVENT
BEGIN:VEVENT
DTSTART;TZID=Europe/Paris:20260228T070000
DTEND;TZID=Europe/Paris:20260228T170000
DTSTAMP:20260420T203952
CREATED:20250228T131710Z
LAST-MODIFIED:20260128T131828Z
UID:8395-1772262000-1772298000@derynekarcag.hu
SUMMARY:DISZNÓ GASZTRÓ - Kolbászízesítő és toroskáposzta-főző verseny
DESCRIPTION:
URL:https://derynekarcag.hu/esemeny/diszno-gasztro-kolbaszizesito-es-toroskaposzta-fozo-verseny/
LOCATION:Karcag Kincse Művészeti és Konferencia Központ\, Karcag Kincse Művészeti és Konferencia Központ\, Karcag\, Jász-Nagykun-Szolnok\, 5300\, Magyarország
CATEGORIES:Karcag Kincse Művészeti és Konferencia Központ
ATTACH;FMTTYPE=image/jpeg:https://derynekarcag.hu/wp-content/uploads/2026/01/hir.jpg
ORGANIZER;CN="D%C3%A9ryn%C3%A9 M%C5%B1vel%C5%91d%C3%A9si K%C3%B6zpont":MAILTO:deryne@derynekarcag.hu
END:VEVENT
BEGIN:VEVENT
DTSTART;TZID=Europe/Paris:20260220T103000
DTEND;TZID=Europe/Paris:20260220T120000
DTSTAMP:20260420T203952
CREATED:20250220T072038Z
LAST-MODIFIED:20260217T072100Z
UID:8473-1771583400-1771588800@derynekarcag.hu
SUMMARY:"Két nemzet\, egy eszme" - Kováts Mihály Baráti Társaság konferenciája
DESCRIPTION:
URL:https://derynekarcag.hu/esemeny/ket-nemzet-egy-eszme-kovats-mihaly-barati-tarsasag-konferenciaja/
LOCATION:Karcag Kincse Művészeti és Konferencia Központ\, Karcag Kincse Művészeti és Konferencia Központ\, Karcag\, Jász-Nagykun-Szolnok\, 5300\, Magyarország
CATEGORIES:Karcag Kincse Művészeti és Konferencia Központ
ATTACH;FMTTYPE=image/jpeg:https://derynekarcag.hu/wp-content/uploads/2026/02/Hir_kovats.jpg
ORGANIZER;CN="D%C3%A9ryn%C3%A9 M%C5%B1vel%C5%91d%C3%A9si K%C3%B6zpont":MAILTO:deryne@derynekarcag.hu
END:VEVENT
BEGIN:VEVENT
DTSTART;TZID=Europe/Paris:20260216T170000
DTEND;TZID=Europe/Paris:20260216T170000
DTSTAMP:20260420T203952
CREATED:20250216T140704Z
LAST-MODIFIED:20260204T085636Z
UID:8422-1771261200-1771261200@derynekarcag.hu
SUMMARY:Takács Rudolf és Dr. Balla Katalin kiállítása
DESCRIPTION:
URL:https://derynekarcag.hu/esemeny/takacs-rudolf-es-dr-balla-katalin-kiallitasa/
LOCATION:Karcag Kincse Művészeti és Konferencia Központ\, Karcag Kincse Művészeti és Konferencia Központ\, Karcag\, Jász-Nagykun-Szolnok\, 5300\, Magyarország
CATEGORIES:Karcag Kincse Művészeti és Konferencia Központ
ATTACH;FMTTYPE=image/jpeg:https://derynekarcag.hu/wp-content/uploads/2026/02/takacs_hir.jpg
ORGANIZER;CN="D%C3%A9ryn%C3%A9 M%C5%B1vel%C5%91d%C3%A9si K%C3%B6zpont":MAILTO:deryne@derynekarcag.hu
END:VEVENT
BEGIN:VEVENT
DTSTART;TZID=Europe/Paris:20260213T163000
DTEND;TZID=Europe/Paris:20260213T163000
DTSTAMP:20260420T203952
CREATED:20250213T153054Z
LAST-MODIFIED:20260203T181541Z
UID:8431-1771000200-1771000200@derynekarcag.hu
SUMMARY:Csizi Norbert: A képzelet prófétája: William Blake munkássága
DESCRIPTION:
URL:https://derynekarcag.hu/esemeny/csizi-norbert-a-kepzelet-profetaja-william-blake-munkassaga/
LOCATION:Ifjúsági Ház – Csokonai Könyvtár\, Püspökladányi út 11.\, Karcag\, Jász-Nagykun-Szolnok\, 5300\, Magyarország
CATEGORIES:Ifjúsági Ház
ATTACH;FMTTYPE=image/jpeg:https://derynekarcag.hu/wp-content/uploads/2026/02/blake-thumb.jpg
ORGANIZER;CN="D%C3%A9ryn%C3%A9 M%C5%B1vel%C5%91d%C3%A9si K%C3%B6zpont":MAILTO:deryne@derynekarcag.hu
END:VEVENT
BEGIN:VEVENT
DTSTART;TZID=Europe/Paris:20260210T180000
DTEND;TZID=Europe/Paris:20260210T210000
DTSTAMP:20260420T203952
CREATED:20250210T095750Z
LAST-MODIFIED:20260115T095856Z
UID:8335-1770746400-1770757200@derynekarcag.hu
SUMMARY:Csalóka Szivárvány
DESCRIPTION:
URL:https://derynekarcag.hu/esemeny/csaloka-szivarvany/
LOCATION:Déryné Művelődési Központ\, Dózsa György út 5-7\, Karcag\, Jász-Nagykun-Szolnok\, 5300
CATEGORIES:Dérynében
ATTACH;FMTTYPE=image/jpeg:https://derynekarcag.hu/wp-content/uploads/2026/01/Csaloka_hir.jpg
ORGANIZER;CN="D%C3%A9ryn%C3%A9 M%C5%B1vel%C5%91d%C3%A9si K%C3%B6zpont":MAILTO:deryne@derynekarcag.hu
END:VEVENT
BEGIN:VEVENT
DTSTART;TZID=Europe/Paris:20260209T170000
DTEND;TZID=Europe/Paris:20260209T170000
DTSTAMP:20260420T203952
CREATED:20250209T160039Z
LAST-MODIFIED:20260127T091338Z
UID:8385-1770656400-1770656400@derynekarcag.hu
SUMMARY:Kovács-Bocskay Anna: "Szálak"
DESCRIPTION:
URL:https://derynekarcag.hu/esemeny/kovacs-bocskay-anna-szalak/
LOCATION:Déryné Művelődési Központ\, Dózsa György út 5-7\, Karcag\, Jász-Nagykun-Szolnok\, 5300
CATEGORIES:Dérynében
ATTACH;FMTTYPE=image/jpeg:https://derynekarcag.hu/wp-content/uploads/2026/01/bocskay-thumb.jpg
ORGANIZER;CN="D%C3%A9ryn%C3%A9 M%C5%B1vel%C5%91d%C3%A9si K%C3%B6zpont":MAILTO:deryne@derynekarcag.hu
END:VEVENT
BEGIN:VEVENT
DTSTART;TZID=Europe/Paris:20260204T180000
DTEND;TZID=Europe/Paris:20260204T200000
DTSTAMP:20260420T203952
CREATED:20250204T083801Z
LAST-MODIFIED:20260115T083950Z
UID:8326-1770228000-1770235200@derynekarcag.hu
SUMMARY:Hadházi László Önálló estje
DESCRIPTION:
URL:https://derynekarcag.hu/esemeny/hadhazi-laszlo-onallo-estje/
LOCATION:Déryné Művelődési Központ\, Dózsa György út 5-7\, Karcag\, Jász-Nagykun-Szolnok\, 5300
CATEGORIES:Dérynében
ATTACH;FMTTYPE=image/jpeg:https://derynekarcag.hu/wp-content/uploads/2026/01/Had_hir.jpg
ORGANIZER;CN="D%C3%A9ryn%C3%A9 M%C5%B1vel%C5%91d%C3%A9si K%C3%B6zpont":MAILTO:deryne@derynekarcag.hu
END:VEVENT
BEGIN:VEVENT
DTSTART;TZID=Europe/Paris:20260120T180000
DTEND;TZID=Europe/Paris:20260121T183000
DTSTAMP:20260420T203952
CREATED:20250120T082914Z
LAST-MODIFIED:20260115T082934Z
UID:8317-1768932000-1769020200@derynekarcag.hu
SUMMARY:A Magyar Kultúra Napja
DESCRIPTION:
URL:https://derynekarcag.hu/esemeny/a-magyar-kultura-napja/
LOCATION:Déryné Művelődési Központ\, Dózsa György út 5-7\, Karcag\, Jász-Nagykun-Szolnok\, 5300
CATEGORIES:Dérynében
ATTACH;FMTTYPE=image/jpeg:https://derynekarcag.hu/wp-content/uploads/2026/01/MK_HIR_De.jpg
ORGANIZER;CN="D%C3%A9ryn%C3%A9 M%C5%B1vel%C5%91d%C3%A9si K%C3%B6zpont":MAILTO:deryne@derynekarcag.hu
END:VEVENT
BEGIN:VEVENT
DTSTART;TZID=Europe/Paris:20260120T180000
DTEND;TZID=Europe/Paris:20260120T193000
DTSTAMP:20260420T203952
CREATED:20250120T075335Z
LAST-MODIFIED:20260119T092310Z
UID:8293-1768932000-1768937400@derynekarcag.hu
SUMMARY:CINTÁNYÉROS CUDAR VILÁG
DESCRIPTION:
URL:https://derynekarcag.hu/esemeny/cintanyeros-cudar-vilag/
LOCATION:Déryné Művelődési Központ\, Dózsa György út 5-7\, Karcag\, Jász-Nagykun-Szolnok\, 5300
CATEGORIES:Dérynében
ATTACH;FMTTYPE=image/jpeg:https://derynekarcag.hu/wp-content/uploads/2026/01/szinhaz_hir.jpg
ORGANIZER;CN="D%C3%A9ryn%C3%A9 M%C5%B1vel%C5%91d%C3%A9si K%C3%B6zpont":MAILTO:deryne@derynekarcag.hu
END:VEVENT
BEGIN:VEVENT
DTSTART;TZID=Europe/Paris:20260116T170000
DTEND;TZID=Europe/Paris:20260116T190000
DTSTAMP:20260420T203952
CREATED:20250116T150739Z
LAST-MODIFIED:20260115T083011Z
UID:8237-1768582800-1768590000@derynekarcag.hu
SUMMARY:VILÁGJÁRÓ KARCAGIAK - MADAGASZKÁR
DESCRIPTION:
URL:https://derynekarcag.hu/esemeny/vilagjaro-karcagiak-madagaszkar/
LOCATION:Ifjúsági Ház – Csokonai Könyvtár\, Püspökladányi út 11.\, Karcag\, Jász-Nagykun-Szolnok\, 5300\, Magyarország
CATEGORIES:Könyvtárban
ATTACH;FMTTYPE=image/jpeg:https://derynekarcag.hu/wp-content/uploads/2026/01/NemethM_hir.jpg
ORGANIZER;CN="D%C3%A9ryn%C3%A9 M%C5%B1vel%C5%91d%C3%A9si K%C3%B6zpont":MAILTO:deryne@derynekarcag.hu
END:VEVENT
BEGIN:VEVENT
DTSTART;TZID=Europe/Paris:20260116T090000
DTEND;TZID=Europe/Paris:20260308T170000
DTSTAMP:20260420T203952
CREATED:20250116T074553Z
LAST-MODIFIED:20260110T075800Z
UID:8282-1768554000-1772989200@derynekarcag.hu
SUMMARY:Tengerészeti kiállítás
DESCRIPTION:
URL:https://derynekarcag.hu/esemeny/tengereszeti-kiallitas/
LOCATION:Erzsébet Liget\, Erzsébet-liget\, Karcag\, Jász-Nagykun-Szolnok\, 5300\, Magyarország
CATEGORIES:Karcag Kincse Művészeti és Konferencia Központ
ATTACH;FMTTYPE=image/jpeg:https://derynekarcag.hu/wp-content/uploads/2026/01/Tenger_hir.jpg
ORGANIZER;CN="D%C3%A9ryn%C3%A9 M%C5%B1vel%C5%91d%C3%A9si K%C3%B6zpont":MAILTO:deryne@derynekarcag.hu
END:VEVENT
BEGIN:VEVENT
DTSTART;TZID=Europe/Paris:20260111T100000
DTEND;TZID=Europe/Paris:20260111T113000
DTSTAMP:20260420T203952
CREATED:20250111T141624Z
LAST-MODIFIED:20260110T074940Z
UID:8255-1768125600-1768131000@derynekarcag.hu
SUMMARY:DONI HŐSÖK EMLÉKÉRE SZERVEZETT MEGEMLÉKEZÉS
DESCRIPTION:
URL:https://derynekarcag.hu/esemeny/doni-hosok-emlekere-szervezett-megemlekezes/
LOCATION:Karcagi Református Nagytemplom\, Kossuth tér 1.\, Karcag\, Jász-Nagykun-Szolnok\, 5300\, Hungary
CATEGORIES:Városban
ATTACH;FMTTYPE=image/jpeg:https://derynekarcag.hu/wp-content/uploads/2026/01/doni_hir.jpg
ORGANIZER;CN="D%C3%A9ryn%C3%A9 M%C5%B1vel%C5%91d%C3%A9si K%C3%B6zpont":MAILTO:deryne@derynekarcag.hu
END:VEVENT
BEGIN:VEVENT
DTSTART;TZID=Europe/Paris:20251220T090000
DTEND;TZID=Europe/Paris:20251221T133000
DTSTAMP:20260420T203952
CREATED:20241220T094459Z
LAST-MODIFIED:20251215T100329Z
UID:8227-1766221200-1766323800@derynekarcag.hu
SUMMARY:Galambkiállítás
DESCRIPTION:
URL:https://derynekarcag.hu/esemeny/galambkiallitas/
LOCATION:Városi Sportcsarnok\, Karcag\, Magyarország
CATEGORIES:Sportcsarnokban
ATTACH;FMTTYPE=image/jpeg:https://derynekarcag.hu/wp-content/uploads/2025/12/Galambhirdetes.jpg
ORGANIZER;CN="D%C3%A9ryn%C3%A9 M%C5%B1vel%C5%91d%C3%A9si K%C3%B6zpont":MAILTO:deryne@derynekarcag.hu
END:VEVENT
BEGIN:VEVENT
DTSTART;TZID=Europe/Paris:20251213T140000
DTEND;TZID=Europe/Paris:20251213T140000
DTSTAMP:20260420T203952
CREATED:20241213T130049Z
LAST-MODIFIED:20251126T160522Z
UID:8182-1765634400-1765634400@derynekarcag.hu
SUMMARY:Együtt a tiszta jövőért! – Drogprevenciós nap
DESCRIPTION:
URL:https://derynekarcag.hu/esemeny/egyutt-a-tiszta-jovoert-drogprevencios-nap/
LOCATION:Városi Sportcsarnok\, Karcag\, Magyarország
CATEGORIES:Sportcsarnokban
ATTACH;FMTTYPE=image/jpeg:https://derynekarcag.hu/wp-content/uploads/2025/11/dp-thumb.jpg
ORGANIZER;CN="D%C3%A9ryn%C3%A9 M%C5%B1vel%C5%91d%C3%A9si K%C3%B6zpont":MAILTO:deryne@derynekarcag.hu
END:VEVENT
BEGIN:VEVENT
DTSTART;TZID=Europe/Paris:20251212T190000
DTEND;TZID=Europe/Paris:20251212T210000
DTSTAMP:20260420T203952
CREATED:20241212T122327Z
LAST-MODIFIED:20251002T112532Z
UID:8071-1765566000-1765573200@derynekarcag.hu
SUMMARY:Máté Péter emlékkoncert
DESCRIPTION:
URL:https://derynekarcag.hu/esemeny/mate-peter-emlekkoncert/
LOCATION:Déryné Művelődési Központ\, Dózsa György út 5-7\, Karcag\, Jász-Nagykun-Szolnok\, 5300
CATEGORIES:Dérynében
ATTACH;FMTTYPE=image/jpeg:https://derynekarcag.hu/wp-content/uploads/2025/10/Tabani_hir.jpg
ORGANIZER;CN="D%C3%A9ryn%C3%A9 M%C5%B1vel%C5%91d%C3%A9si K%C3%B6zpont":MAILTO:deryne@derynekarcag.hu
END:VEVENT
BEGIN:VEVENT
DTSTART;TZID=Europe/Paris:20251209T180000
DTEND;TZID=Europe/Paris:20251209T180000
DTSTAMP:20260420T203952
CREATED:20241209T082849Z
LAST-MODIFIED:20250918T063154Z
UID:7734-1765303200-1765303200@derynekarcag.hu
SUMMARY:ŐSZI ROADSHOW - BÓDI TESÓK
DESCRIPTION:
URL:https://derynekarcag.hu/esemeny/oszi-roadshow-bodi-tesok/
LOCATION:Déryné Művelődési Központ\, Dózsa György út 5-7\, Karcag\, Jász-Nagykun-Szolnok\, 5300
CATEGORIES:Dérynében
ATTACH;FMTTYPE=image/jpeg:https://derynekarcag.hu/wp-content/uploads/2025/06/Bodi_hir.jpg
ORGANIZER;CN="D%C3%A9ryn%C3%A9 M%C5%B1vel%C5%91d%C3%A9si K%C3%B6zpont":MAILTO:deryne@derynekarcag.hu
END:VEVENT
BEGIN:VEVENT
DTSTART;TZID=Europe/Paris:20251207T150000
DTEND;TZID=Europe/Paris:20251207T163000
DTSTAMP:20260420T203952
CREATED:20241207T074810Z
LAST-MODIFIED:20251203T074927Z
UID:8214-1765119600-1765125000@derynekarcag.hu
SUMMARY:2. Adventi gyertyagyújtás
DESCRIPTION:
URL:https://derynekarcag.hu/esemeny/2-adventi-gyertyagyujtas/
LOCATION:Déryné Művelődési Központ\, Dózsa György út 5-7\, Karcag\, Jász-Nagykun-Szolnok\, 5300
CATEGORIES:Dérynében
ATTACH;FMTTYPE=image/jpeg:https://derynekarcag.hu/wp-content/uploads/2025/12/Adventi2hir.jpg
ORGANIZER;CN="D%C3%A9ryn%C3%A9 M%C5%B1vel%C5%91d%C3%A9si K%C3%B6zpont":MAILTO:deryne@derynekarcag.hu
END:VEVENT
BEGIN:VEVENT
DTSTART;TZID=Europe/Paris:20251206T150000
DTEND;TZID=Europe/Paris:20251206T190000
DTSTAMP:20260420T203952
CREATED:20241206T144614Z
LAST-MODIFIED:20251202T144808Z
UID:8205-1765033200-1765047600@derynekarcag.hu
SUMMARY:Adventi Játszóház
DESCRIPTION:
URL:https://derynekarcag.hu/esemeny/adventi-jatszohaz-2/
LOCATION:Déryné Művelődési Központ\, Dózsa György út 5-7\, Karcag\, Jász-Nagykun-Szolnok\, 5300
CATEGORIES:Dérynében
ATTACH;FMTTYPE=image/jpeg:https://derynekarcag.hu/wp-content/uploads/2025/12/AdventiJatszohazD2025_hirek.jpg
ORGANIZER;CN="D%C3%A9ryn%C3%A9 M%C5%B1vel%C5%91d%C3%A9si K%C3%B6zpont":MAILTO:deryne@derynekarcag.hu
END:VEVENT
BEGIN:VEVENT
DTSTART;TZID=Europe/Paris:20251202T163000
DTEND;TZID=Europe/Paris:20251209T210000
DTSTAMP:20260420T203952
CREATED:20241202T075003Z
LAST-MODIFIED:20251124T075149Z
UID:8161-1764693000-1765314000@derynekarcag.hu
SUMMARY:Boldizsár Erzsébet festmény kiállítás és könyvbemutató
DESCRIPTION:
URL:https://derynekarcag.hu/esemeny/boldizsar-erzsebet-festmeny-kiallitas-es-konyvbemutato/
LOCATION:Déryné Művelődési Központ\, Dózsa György út 5-7\, Karcag\, Jász-Nagykun-Szolnok\, 5300
CATEGORIES:Dérynében
ATTACH;FMTTYPE=image/jpeg:https://derynekarcag.hu/wp-content/uploads/2025/11/Hirek.jpg
ORGANIZER;CN="D%C3%A9ryn%C3%A9 M%C5%B1vel%C5%91d%C3%A9si K%C3%B6zpont":MAILTO:deryne@derynekarcag.hu
END:VEVENT
BEGIN:VEVENT
DTSTART;TZID=Europe/Paris:20251130T160000
DTEND;TZID=Europe/Paris:20251222T000000
DTSTAMP:20260420T203952
CREATED:20241130T094808Z
LAST-MODIFIED:20251125T094910Z
UID:8173-1764518400-1766361600@derynekarcag.hu
SUMMARY:Téli Programok Karcagon
DESCRIPTION:
URL:https://derynekarcag.hu/esemeny/teli-programok-karcagon-2/
LOCATION:Karcag\, Karcag\, Jász-Nagykun-Szolnok\, 5300\, Magyarország
CATEGORIES:Dérynében
ATTACH;FMTTYPE=image/jpeg:https://derynekarcag.hu/wp-content/uploads/2025/11/hirek-1.jpg
ORGANIZER;CN="D%C3%A9ryn%C3%A9 M%C5%B1vel%C5%91d%C3%A9si K%C3%B6zpont":MAILTO:deryne@derynekarcag.hu
END:VEVENT
BEGIN:VEVENT
DTSTART;TZID=Europe/Paris:20251130T160000
DTEND;TZID=Europe/Paris:20251130T180000
DTSTAMP:20260420T203952
CREATED:02021130T082016Z
LAST-MODIFIED:20251203T074954Z
UID:8195-1764518400-1764525600@derynekarcag.hu
SUMMARY:Adventi gyertyagyújtás
DESCRIPTION:
URL:https://derynekarcag.hu/esemeny/adventi-gyertyagyujtas-2/
LOCATION:Déryné Művelődési Központ\, Dózsa György út 5-7\, Karcag\, Jász-Nagykun-Szolnok\, 5300
CATEGORIES:Dérynében
ATTACH;FMTTYPE=image/jpeg:https://derynekarcag.hu/wp-content/uploads/2025/11/hiradvent.jpg
ORGANIZER;CN="D%C3%A9ryn%C3%A9 M%C5%B1vel%C5%91d%C3%A9si K%C3%B6zpont":MAILTO:deryne@derynekarcag.hu
END:VEVENT
BEGIN:VEVENT
DTSTART;TZID=Europe/Paris:20251113T193000
DTEND;TZID=Europe/Paris:20251113T220000
DTSTAMP:20260420T203952
CREATED:20241113T121643Z
LAST-MODIFIED:20251002T111946Z
UID:8056-1763062200-1763071200@derynekarcag.hu
SUMMARY:Család ellen nincs orvosság
DESCRIPTION:
URL:https://derynekarcag.hu/esemeny/csalad-ellen-nincs-orvossag/
LOCATION:Déryné Művelődési Központ\, Dózsa György út 5-7\, Karcag\, Jász-Nagykun-Szolnok\, 5300
CATEGORIES:Dérynében
ATTACH;FMTTYPE=image/jpeg:https://derynekarcag.hu/wp-content/uploads/2025/10/csaladellen_hir.jpg
ORGANIZER;CN="D%C3%A9ryn%C3%A9 M%C5%B1vel%C5%91d%C3%A9si K%C3%B6zpont":MAILTO:deryne@derynekarcag.hu
END:VEVENT
BEGIN:VEVENT
DTSTART;TZID=Europe/Paris:20251103T180000
DTEND;TZID=Europe/Paris:20251103T180000
DTSTAMP:20260420T203952
CREATED:20241103T170042Z
LAST-MODIFIED:20251001T051914Z
UID:8029-1762192800-1762192800@derynekarcag.hu
SUMMARY:HOBO: Az utcazenész
DESCRIPTION:
URL:https://derynekarcag.hu/esemeny/hobo-az-utcazenesz/
LOCATION:Déryné Művelődési Központ\, Dózsa György út 5-7\, Karcag\, Jász-Nagykun-Szolnok\, 5300
CATEGORIES:Dérynében
ATTACH;FMTTYPE=image/jpeg:https://derynekarcag.hu/wp-content/uploads/2025/10/hobo-thumb.jpg
ORGANIZER;CN="D%C3%A9ryn%C3%A9 M%C5%B1vel%C5%91d%C3%A9si K%C3%B6zpont":MAILTO:deryne@derynekarcag.hu
END:VEVENT
BEGIN:VEVENT
DTSTART;TZID=Europe/Paris:20251029T170000
DTEND;TZID=Europe/Paris:20251029T170000
DTSTAMP:20260420T203952
CREATED:20241029T160022Z
LAST-MODIFIED:20251027T163420Z
UID:8147-1761757200-1761757200@derynekarcag.hu
SUMMARY:Író-Olvasó Találkozó
DESCRIPTION:
URL:https://derynekarcag.hu/esemeny/iro-olvaso-talalkozo-2/
LOCATION:Ifjúsági Ház – Csokonai Könyvtár\, Püspökladányi út 11.\, Karcag\, Jász-Nagykun-Szolnok\, 5300\, Magyarország
CATEGORIES:Ifjúsági Ház,Könyvtárban
ATTACH;FMTTYPE=image/jpeg:https://derynekarcag.hu/wp-content/uploads/2025/10/orsi-julianna-thumb.jpg
ORGANIZER;CN="D%C3%A9ryn%C3%A9 M%C5%B1vel%C5%91d%C3%A9si K%C3%B6zpont":MAILTO:deryne@derynekarcag.hu
END:VEVENT
END:VCALENDAR