BEGIN:VCALENDAR
VERSION:2.0
PRODID:-//Déryné Művelődési Központ és Városi Könyvtár - ECPv6.3.5//NONSGML v1.0//EN
CALSCALE:GREGORIAN
METHOD:PUBLISH
X-ORIGINAL-URL:https://derynekarcag.hu
X-WR-CALDESC:Events for Déryné Művelődési Központ és Városi Könyvtár
REFRESH-INTERVAL;VALUE=DURATION:PT1H
X-Robots-Tag:noindex
X-PUBLISHED-TTL:PT1H
BEGIN:VTIMEZONE
TZID:Europe/Paris
BEGIN:DAYLIGHT
TZOFFSETFROM:+0100
TZOFFSETTO:+0200
TZNAME:CEST
DTSTART:20260329T010000
END:DAYLIGHT
BEGIN:STANDARD
TZOFFSETFROM:+0200
TZOFFSETTO:+0100
TZNAME:CET
DTSTART:20261025T010000
END:STANDARD
END:VTIMEZONE
BEGIN:VEVENT
DTSTART;TZID=Europe/Paris:20260422T180000
DTEND;TZID=Europe/Paris:20260422T200000
DTSTAMP:20260420T172228
CREATED:20250422T140132Z
LAST-MODIFIED:20260312T150253Z
UID:8587-1776880800-1776888000@derynekarcag.hu
SUMMARY:Kovács András Péter - önálló estje
DESCRIPTION:
URL:https://derynekarcag.hu/esemeny/kovacs-andras-peter-onallo-estje/
LOCATION:Déryné Művelődési Központ\, Dózsa György út 5-7\, Karcag\, Jász-Nagykun-Szolnok\, 5300
CATEGORIES:Dérynében
ATTACH;FMTTYPE=image/jpeg:https://derynekarcag.hu/wp-content/uploads/2026/03/KP_hir.jpg
ORGANIZER;CN="D%C3%A9ryn%C3%A9 M%C5%B1vel%C5%91d%C3%A9si K%C3%B6zpont":MAILTO:deryne@derynekarcag.hu
END:VEVENT
BEGIN:VEVENT
DTSTART;TZID=Europe/Paris:20260428T170000
DTEND;TZID=Europe/Paris:20260428T180000
DTSTAMP:20260420T172229
CREATED:20250428T134217Z
LAST-MODIFIED:20260414T134625Z
UID:8715-1777395600-1777399200@derynekarcag.hu
SUMMARY:Májusfaállítás
DESCRIPTION:
URL:https://derynekarcag.hu/esemeny/majusfaallitas/
LOCATION:Karcag\, Karcag\, Jász-Nagykun-Szolnok\, 5300\, Magyarország
CATEGORIES:Városban
ATTACH;FMTTYPE=image/jpeg:https://derynekarcag.hu/wp-content/uploads/2026/04/Majusfa_hirek.jpg
ORGANIZER;CN="D%C3%A9ryn%C3%A9 M%C5%B1vel%C5%91d%C3%A9si K%C3%B6zpont":MAILTO:deryne@derynekarcag.hu
END:VEVENT
BEGIN:VEVENT
DTSTART;TZID=Europe/Paris:20260429T100000
DTEND;TZID=Europe/Paris:20260429T100000
DTSTAMP:20260420T172229
CREATED:20250429T080054Z
LAST-MODIFIED:20260409T055403Z
UID:8680-1777456800-1777456800@derynekarcag.hu
SUMMARY:Disney varázslat – Interaktív koncert a Brill Vokállal
DESCRIPTION:
URL:https://derynekarcag.hu/esemeny/disney-varazslat-interaktiv-koncert-a-brill-vokallal/
LOCATION:Déryné Művelődési Központ\, Dózsa György út 5-7\, Karcag\, Jász-Nagykun-Szolnok\, 5300
CATEGORIES:Dérynében
ATTACH;FMTTYPE=image/jpeg:https://derynekarcag.hu/wp-content/uploads/2026/04/disney-varazslat-thumb.jpg
ORGANIZER;CN="D%C3%A9ryn%C3%A9 M%C5%B1vel%C5%91d%C3%A9si K%C3%B6zpont":MAILTO:deryne@derynekarcag.hu
END:VEVENT
BEGIN:VEVENT
DTSTART;TZID=Europe/Paris:20260504T170000
DTEND;TZID=Europe/Paris:20260508T180000
DTSTAMP:20260420T172229
CREATED:20250504T091147Z
LAST-MODIFIED:20260414T134243Z
UID:8706-1777914000-1778263200@derynekarcag.hu
SUMMARY:KUTASD A MULTAD! 2026
DESCRIPTION:
URL:https://derynekarcag.hu/esemeny/kutasd-a-multad-2026/
LOCATION:Ifjúsági Ház – Csokonai Könyvtár\, Püspökladányi út 11.\, Karcag\, Jász-Nagykun-Szolnok\, 5300\, Magyarország
CATEGORIES:Ifjúsági Ház
ATTACH;FMTTYPE=image/jpeg:https://derynekarcag.hu/wp-content/uploads/2026/04/KutasdHirek.jpg
ORGANIZER;CN="D%C3%A9ryn%C3%A9 M%C5%B1vel%C5%91d%C3%A9si K%C3%B6zpont":MAILTO:deryne@derynekarcag.hu
END:VEVENT
BEGIN:VEVENT
DTSTART;TZID=Europe/Paris:20260511T180000
DTEND;TZID=Europe/Paris:20260511T180000
DTSTAMP:20260420T172229
CREATED:20250511T160046Z
LAST-MODIFIED:20260306T074023Z
UID:8542-1778522400-1778522400@derynekarcag.hu
SUMMARY:A digitális ninja - Aranyosi Péter önálló estje
DESCRIPTION:
URL:https://derynekarcag.hu/esemeny/a-digitalis-ninja-aranyosi-peter-onallo-estje/
LOCATION:Déryné Művelődési Központ\, Dózsa György út 5-7\, Karcag\, Jász-Nagykun-Szolnok\, 5300
CATEGORIES:Dérynében
ATTACH;FMTTYPE=image/jpeg:https://derynekarcag.hu/wp-content/uploads/2026/03/aranyosi-thumb.jpg
ORGANIZER;CN="D%C3%A9ryn%C3%A9 M%C5%B1vel%C5%91d%C3%A9si K%C3%B6zpont":MAILTO:deryne@derynekarcag.hu
END:VEVENT
BEGIN:VEVENT
DTSTART;VALUE=DATE:20260523
DTEND;VALUE=DATE:20260524
DTSTAMP:20260420T172229
CREATED:20250523T093728Z
LAST-MODIFIED:20260417T095736Z
UID:8781-1779494400-1779580799@derynekarcag.hu
SUMMARY:TRAKTOROS ÜGYESSÉGI VERSENY
DESCRIPTION:
URL:https://derynekarcag.hu/esemeny/traktoros-ugyessegi-verseny/
LOCATION:Erzsébet Liget\, Erzsébet-liget\, Karcag\, Jász-Nagykun-Szolnok\, 5300\, Magyarország
CATEGORIES:Erzsébet Ligetben
ATTACH;FMTTYPE=image/jpeg:https://derynekarcag.hu/wp-content/uploads/2026/04/TraktorosHir.jpg
ORGANIZER;CN="D%C3%A9ryn%C3%A9 M%C5%B1vel%C5%91d%C3%A9si K%C3%B6zpont":MAILTO:deryne@derynekarcag.hu
END:VEVENT
BEGIN:VEVENT
DTSTART;VALUE=DATE:20260523
DTEND;VALUE=DATE:20260524
DTSTAMP:20260420T172229
CREATED:20250523T135050Z
LAST-MODIFIED:20260414T142644Z
UID:8724-1779494400-1779580799@derynekarcag.hu
SUMMARY:CSALÁDI NAP
DESCRIPTION:
URL:https://derynekarcag.hu/esemeny/csaladi-nap-2/
LOCATION:Erzsébet Liget\, Erzsébet-liget\, Karcag\, Jász-Nagykun-Szolnok\, 5300\, Magyarország
CATEGORIES:Erzsébet Ligetben
ATTACH;FMTTYPE=image/jpeg:https://derynekarcag.hu/wp-content/uploads/2026/04/CsaladiHir.jpg
ORGANIZER;CN="D%C3%A9ryn%C3%A9 M%C5%B1vel%C5%91d%C3%A9si K%C3%B6zpont":MAILTO:deryne@derynekarcag.hu
END:VEVENT
END:VCALENDAR