BEGIN:VCALENDAR
VERSION:2.0
PRODID:-//Déryné Művelődési Központ és Városi Könyvtár - ECPv6.3.5//NONSGML v1.0//EN
CALSCALE:GREGORIAN
METHOD:PUBLISH
X-WR-CALNAME:Déryné Művelődési Központ és Városi Könyvtár
X-ORIGINAL-URL:https://derynekarcag.hu
X-WR-CALDESC:Events for Déryné Művelődési Központ és Városi Könyvtár
REFRESH-INTERVAL;VALUE=DURATION:PT1H
X-Robots-Tag:noindex
X-PUBLISHED-TTL:PT1H
BEGIN:VTIMEZONE
TZID:Europe/Paris
BEGIN:DAYLIGHT
TZOFFSETFROM:+0100
TZOFFSETTO:+0200
TZNAME:CEST
DTSTART:20240331T010000
END:DAYLIGHT
BEGIN:STANDARD
TZOFFSETFROM:+0200
TZOFFSETTO:+0100
TZNAME:CET
DTSTART:20241027T010000
END:STANDARD
END:VTIMEZONE
BEGIN:VEVENT
DTSTART;VALUE=DATE:20240525
DTEND;VALUE=DATE:20240526
DTSTAMP:20260421T092246
CREATED:20240515T081630Z
LAST-MODIFIED:20240515T081820Z
UID:4979-1716595200-1716681599@derynekarcag.hu
SUMMARY:CSALÁDI NAP- SPORTÁGVÁLASZTÓ
DESCRIPTION:A nagykunsági könyvek
URL:https://derynekarcag.hu/esemeny/csaladi-nap-sportagvalaszto/
LOCATION:Karcag – Liget úti Sportpálya\, Liget úti Sportpálya\, Karcag\, Jász-Nagykun-Szolnok\, 5300\, Magyarország
CATEGORIES:Városban
ATTACH;FMTTYPE=image/jpeg:https://derynekarcag.hu/wp-content/uploads/2024/05/sportagvalaszto_banner.jpg
ORGANIZER;CN="D%C3%A9ryn%C3%A9 M%C5%B1vel%C5%91d%C3%A9si K%C3%B6zpont":MAILTO:deryne@derynekarcag.hu
END:VEVENT
BEGIN:VEVENT
DTSTART;VALUE=DATE:20240525
DTEND;VALUE=DATE:20240526
DTSTAMP:20260421T092246
CREATED:20230423T075235Z
LAST-MODIFIED:20240515T081326Z
UID:4798-1716595200-1716681599@derynekarcag.hu
SUMMARY:CSALÁDI NAP- SPORTÁGVÁLASZTÓ Versenykiírás
DESCRIPTION:A nagykunsági könyvek
URL:https://derynekarcag.hu/esemeny/csaladinap-sportagvalaszto/
LOCATION:Karcag – Liget úti Sportpálya\, Liget úti Sportpálya\, Karcag\, Jász-Nagykun-Szolnok\, 5300\, Magyarország
CATEGORIES:Városban
ATTACH;FMTTYPE=image/jpeg:https://derynekarcag.hu/wp-content/uploads/2024/05/CsaladinapHirek_626_460.jpg
ORGANIZER;CN="D%C3%A9ryn%C3%A9 M%C5%B1vel%C5%91d%C3%A9si K%C3%B6zpont":MAILTO:deryne@derynekarcag.hu
END:VEVENT
BEGIN:VEVENT
DTSTART;TZID=Europe/Paris:20240515T163000
DTEND;TZID=Europe/Paris:20240515T210000
DTSTAMP:20260421T092246
CREATED:20230414T154025Z
LAST-MODIFIED:20240504T045534Z
UID:4411-1715790600-1715806800@derynekarcag.hu
SUMMARY:U17 lány kézilabda bajnokság
DESCRIPTION:A nagykunsági könyvek
URL:https://derynekarcag.hu/esemeny/u12-lany-kezilabda-bajnoksag/
LOCATION:Városi Sportcsarnok\, Karcag\, Magyarország
CATEGORIES:Sportcsarnokban
ATTACH;FMTTYPE=image/jpeg:https://derynekarcag.hu/wp-content/uploads/2024/04/5618236-scaled.jpg
END:VEVENT
BEGIN:VEVENT
DTSTART;VALUE=DATE:20240513
DTEND;VALUE=DATE:20240610
DTSTAMP:20260421T092246
CREATED:20230506T105324Z
LAST-MODIFIED:20240530T163210Z
UID:4953-1715558400-1717977599@derynekarcag.hu
SUMMARY:Sz. Kovács Géza segesvári festőművész kiállítása
DESCRIPTION:A nagykunsági könyvek
URL:https://derynekarcag.hu/esemeny/sz-kovacs-geza-segesvari-festomuvesz-kiallitasa/
LOCATION:Erzsébet Liget\, Erzsébet-liget\, Karcag\, Jász-Nagykun-Szolnok\, 5300\, Magyarország
CATEGORIES:Városban
ATTACH;FMTTYPE=image/jpeg:https://derynekarcag.hu/wp-content/uploads/2024/05/Esemeny_Banner.jpg
ORGANIZER;CN="D%C3%A9ryn%C3%A9 M%C5%B1vel%C5%91d%C3%A9si K%C3%B6zpont":MAILTO:deryne@derynekarcag.hu
END:VEVENT
BEGIN:VEVENT
DTSTART;TZID=Europe/Paris:20240510T111500
DTEND;TZID=Europe/Paris:20240510T180000
DTSTAMP:20260421T092246
CREATED:20240504T184208Z
LAST-MODIFIED:20240504T185123Z
UID:4926-1715339700-1715364000@derynekarcag.hu
SUMMARY:Fabriczy Kováts Mihály születésének 300. évfordulója
DESCRIPTION:A nagykunsági könyvek
URL:https://derynekarcag.hu/esemeny/fabriczy-kovats-mihaly-szuletesenek-300-evforduloja/
LOCATION:Karcag\, Karcag\, Jász-Nagykun-Szolnok\, 5300\, Magyarország
CATEGORIES:Városban
ATTACH;FMTTYPE=image/jpeg:https://derynekarcag.hu/wp-content/uploads/2024/05/kovatshirek.jpg
ORGANIZER;CN="D%C3%A9ryn%C3%A9 M%C5%B1vel%C5%91d%C3%A9si K%C3%B6zpont":MAILTO:deryne@derynekarcag.hu
END:VEVENT
BEGIN:VEVENT
DTSTART;VALUE=DATE:20240415
DTEND;VALUE=DATE:20240610
DTSTAMP:20260421T092246
CREATED:20230415T063809Z
LAST-MODIFIED:20240527T113547Z
UID:4653-1713139200-1717977599@derynekarcag.hu
SUMMARY:Földközelben - Rögök Között
DESCRIPTION:A nagykunsági könyvek
URL:https://derynekarcag.hu/esemeny/foldkozelben-rogok-kozott/
LOCATION:Erzsébet Liget\, Erzsébet-liget\, Karcag\, Jász-Nagykun-Szolnok\, 5300\, Magyarország
CATEGORIES:Városban
ATTACH;FMTTYPE=image/jpeg:https://derynekarcag.hu/wp-content/uploads/2023/04/rogok-kozott-16-9.jpg
ORGANIZER;CN="D%C3%A9ryn%C3%A9 M%C5%B1vel%C5%91d%C3%A9si K%C3%B6zpont":MAILTO:deryne@derynekarcag.hu
END:VEVENT
BEGIN:VEVENT
DTSTART;TZID=Europe/Paris:20240413T090000
DTEND;TZID=Europe/Paris:20240413T150000
DTSTAMP:20260421T092246
CREATED:20230413T152334Z
LAST-MODIFIED:20240407T161004Z
UID:4397-1712998800-1713020400@derynekarcag.hu
SUMMARY:U14 lány kézilabda bajnokság
DESCRIPTION:A nagykunsági könyvek
URL:https://derynekarcag.hu/esemeny/u14-lany-kezilabda-bajnoksag/
LOCATION:Városi Sportcsarnok\, Karcag\, Magyarország
CATEGORIES:Sportcsarnokban
ATTACH;FMTTYPE=image/jpeg:https://derynekarcag.hu/wp-content/uploads/2024/04/5618236-scaled.jpg
END:VEVENT
BEGIN:VEVENT
DTSTART;TZID=Europe/Paris:20240410T140000
DTEND;TZID=Europe/Paris:20240410T140000
DTSTAMP:20260421T092246
CREATED:20230410T174618Z
LAST-MODIFIED:20240407T161029Z
UID:3336-1712757600-1712757600@derynekarcag.hu
SUMMARY:"Amit a szivedbe rejtesz"
DESCRIPTION:A nagykunsági könyvek
URL:https://derynekarcag.hu/esemeny/amit-a-szivedbe-rejtesz/
LOCATION:Ifjúsági Ház – Csokonai Könyvtár\, Püspökladányi út 11.\, Karcag\, Jász-Nagykun-Szolnok\, 5300\, Magyarország
CATEGORIES:Könyvtárban
ATTACH;FMTTYPE=image/jpeg:https://derynekarcag.hu/wp-content/uploads/2024/03/amitszivedben_banner.jpg
ORGANIZER;CN="D%C3%A9ryn%C3%A9 M%C5%B1vel%C5%91d%C3%A9si K%C3%B6zpont":MAILTO:deryne@derynekarcag.hu
END:VEVENT
BEGIN:VEVENT
DTSTART;TZID=Europe/Paris:20240327T100000
DTEND;TZID=Europe/Paris:20240327T160000
DTSTAMP:20260421T092246
CREATED:20240328T220022Z
LAST-MODIFIED:20240402T132534Z
UID:3655-1711533600-1711555200@derynekarcag.hu
SUMMARY:Húsvéti Játszóház
DESCRIPTION:A nagykunsági könyvek
URL:https://derynekarcag.hu/esemeny/husveti-jatszohaz-nyuszifullel/
LOCATION:Városi Sportcsarnok\, Karcag\, Magyarország
CATEGORIES:Sportcsarnokban
ATTACH;FMTTYPE=image/jpeg:https://derynekarcag.hu/wp-content/uploads/2024/03/husvetijatszohaz.jpg
ORGANIZER;CN="D%C3%A9ryn%C3%A9 M%C5%B1vel%C5%91d%C3%A9si K%C3%B6zpont":MAILTO:deryne@derynekarcag.hu
END:VEVENT
BEGIN:VEVENT
DTSTART;VALUE=DATE:20240302
DTEND;VALUE=DATE:20240610
DTSTAMP:20260421T092246
CREATED:20230609T213702Z
LAST-MODIFIED:20240413T201310Z
UID:3514-1709337600-1717977599@derynekarcag.hu
SUMMARY:Munkácsy Karcagon
DESCRIPTION:A nagykunsági könyvek
URL:https://derynekarcag.hu/esemeny/munkacsy-karcagon/
LOCATION:Karcag Kincse Művészeti és Konferencia Központ\, Karcag Kincse Művészeti és Konferencia Központ\, Karcag\, Jász-Nagykun-Szolnok\, 5300\, Magyarország
CATEGORIES:Városban
ATTACH;FMTTYPE=image/jpeg:https://derynekarcag.hu/wp-content/uploads/2024/03/munkacsy.jpg
END:VEVENT
END:VCALENDAR