BEGIN:VCALENDAR
VERSION:2.0
PRODID:-//Déryné Művelődési Központ és Városi Könyvtár - ECPv6.3.5//NONSGML v1.0//EN
CALSCALE:GREGORIAN
METHOD:PUBLISH
X-WR-CALNAME:Déryné Művelődési Központ és Városi Könyvtár
X-ORIGINAL-URL:https://derynekarcag.hu
X-WR-CALDESC:Events for Déryné Művelődési Központ és Városi Könyvtár
REFRESH-INTERVAL;VALUE=DURATION:PT1H
X-Robots-Tag:noindex
X-PUBLISHED-TTL:PT1H
BEGIN:VTIMEZONE
TZID:Europe/Paris
BEGIN:DAYLIGHT
TZOFFSETFROM:+0100
TZOFFSETTO:+0200
TZNAME:CEST
DTSTART:20260329T010000
END:DAYLIGHT
BEGIN:STANDARD
TZOFFSETFROM:+0200
TZOFFSETTO:+0100
TZNAME:CET
DTSTART:20261025T010000
END:STANDARD
END:VTIMEZONE
BEGIN:VEVENT
DTSTART;TZID=Europe/Paris:20260116T090000
DTEND;TZID=Europe/Paris:20260308T170000
DTSTAMP:20260422T123714
CREATED:20250116T074553Z
LAST-MODIFIED:20260110T075800Z
UID:8282-1768554000-1772989200@derynekarcag.hu
SUMMARY:Tengerészeti kiállítás
DESCRIPTION:
URL:https://derynekarcag.hu/esemeny/tengereszeti-kiallitas/
LOCATION:Erzsébet Liget\, Erzsébet-liget\, Karcag\, Jász-Nagykun-Szolnok\, 5300\, Magyarország
CATEGORIES:Karcag Kincse Művészeti és Konferencia Központ
ATTACH;FMTTYPE=image/jpeg:https://derynekarcag.hu/wp-content/uploads/2026/01/Tenger_hir.jpg
ORGANIZER;CN="D%C3%A9ryn%C3%A9 M%C5%B1vel%C5%91d%C3%A9si K%C3%B6zpont":MAILTO:deryne@derynekarcag.hu
END:VEVENT
BEGIN:VEVENT
DTSTART;TZID=Europe/Paris:20260314T083000
DTEND;TZID=Europe/Paris:20260314T083000
DTSTAMP:20260422T123714
CREATED:20250314T073008Z
LAST-MODIFIED:20260306T090403Z
UID:8563-1773477000-1773477000@derynekarcag.hu
SUMMARY:Március 15.
DESCRIPTION:
URL:https://derynekarcag.hu/esemeny/marcius-15-2/
LOCATION:Karcag\, Kossuth tér\, Kossuth tér\, Karcag\, Jász-Nagykun-Szolnok\, 5300\, Magyarország
CATEGORIES:Városban
ATTACH;FMTTYPE=image/jpeg:https://derynekarcag.hu/wp-content/uploads/2026/03/marcius15-thumb.jpg
ORGANIZER;CN="D%C3%A9ryn%C3%A9 M%C5%B1vel%C5%91d%C3%A9si K%C3%B6zpont":MAILTO:deryne@derynekarcag.hu
END:VEVENT
BEGIN:VEVENT
DTSTART;TZID=Europe/Paris:20260317T180000
DTEND;TZID=Europe/Paris:20260317T193000
DTSTAMP:20260422T123714
CREATED:20250317T075446Z
LAST-MODIFIED:20260219T133713Z
UID:8492-1773770400-1773775800@derynekarcag.hu
SUMMARY:Kiss Ádám - MIT NEM MONDOK
DESCRIPTION:
URL:https://derynekarcag.hu/esemeny/kiss-adam-mit-nem-mondok/
LOCATION:Déryné Művelődési Központ\, Dózsa György út 5-7\, Karcag\, Jász-Nagykun-Szolnok\, 5300
CATEGORIES:Dérynében
ATTACH;FMTTYPE=image/jpeg:https://derynekarcag.hu/wp-content/uploads/2026/02/hir_kissadam.jpg
ORGANIZER;CN="D%C3%A9ryn%C3%A9 M%C5%B1vel%C5%91d%C3%A9si K%C3%B6zpont":MAILTO:deryne@derynekarcag.hu
END:VEVENT
BEGIN:VEVENT
DTSTART;TZID=Europe/Paris:20260331T171500
DTEND;TZID=Europe/Paris:20260331T171500
DTSTAMP:20260422T123714
CREATED:20250331T151556Z
LAST-MODIFIED:20260318T074414Z
UID:8612-1774977300-1774977300@derynekarcag.hu
SUMMARY:Karcagi tojásfák - Készüljünk együtt a húvéti ünnepre!
DESCRIPTION:
URL:https://derynekarcag.hu/esemeny/karcagi-tojasfak-keszuljunk-egyutt-a-huveti-unnepre/
LOCATION:Déryné Művelődési Központ\, Dózsa György út 5-7\, Karcag\, Jász-Nagykun-Szolnok\, 5300
CATEGORIES:Dérynében
ATTACH;FMTTYPE=image/jpeg:https://derynekarcag.hu/wp-content/uploads/2026/03/tojasfa-thumb-2.jpg
ORGANIZER;CN="D%C3%A9ryn%C3%A9 M%C5%B1vel%C5%91d%C3%A9si K%C3%B6zpont":MAILTO:deryne@derynekarcag.hu
END:VEVENT
END:VCALENDAR